BEGIN:VCALENDAR
VERSION:2.0
PRODID:-//hacksw/handcal//NONSGML v1.0//EN
BEGIN:VEVENT
SUMMARY:🐣⚔️ STAGE DE PAQUES – PREPARATION AU TOURNOI SANDHAAS
UID:4f65aeb9-fe1e-4b89-bced-1398b317f5de
DTSTART:20260419T220000Z
DTEND:20260423T220000Z
LOCATION:Localisation   
CATEGORIES:Sportif
STATUS:
DESCRIPTION:<p style="text-align:center;">🐣⚔️ <strong>STAGE DE
 PAQUES – PREPARATION AU TOURNOI SANDHAAS</strong><br />
 Preparation
 tactique & assauts au fleuret</p>
 
 <p style="text-align:center;">📍
 <strong>20 – 23 avril 2026 – Haguenau (France)</strong></p>
 
 <p
 style="text-align:center;">🔥 <strong>PREPARE TON TOURNOI –
 AIGUISE TA TACTIQUE – MULTIPLIE LES ASSAUTS !</strong>
 🔥</p>
 
 <hr />
 <h2>📣 Presentation du stage</h2>
 
 <p>Le club
 d’escrime <strong>CEH Haguenau</strong> et son <strong>Maitre
 d’armes Piotr Kuzas</strong> organisent un <strong>stage
 international de preparation au tournoi Sandhaas</strong>.</p>
 
 <p>Ce
 stage est concu comme un <strong>camp d’entrainement
 pre-competition</strong>, destine aux tireurs souhaitant arriver au
 tournoi dans les meilleures conditions tactiques et
 physiques.</p>
 
 <p>Objectifs :</p>
 
 <h2>📋 Programme</h2>
 
 <p>🔁
 Volume eleve d’assauts diriges et libres</p>
 
 <p>🧠 Travail
 tactique</p>
 
 <p>⚔️ Situations de match</p>
 
 <p>👣 Jeu de
 jambes specifique combat</p>
 
 <p>🎯 Coaching et
 debriefings</p>
 
 <p>🤝 Oppositions entre tireurs</p>
 
 <hr
 />
 <h2>⏰ Horaires du stage</h2>
 
 <p><strong>Lundi : 14h00 –
 18h00</strong></p>
 
 <p><strong>Mardi – mercredi : 9h00 –
 17h00</strong></p>
 
 <p><strong>Jeudi : 9h00 –
 13h00</strong></p>
 
 <hr />
 <h2>👨‍🏫
 Encadrement</h2>
 
 <p><strong>Maitre Piotr Kuzas</strong><br
 />
 DESJEPS Escrime –</p>
 
 <p>DU Preparation Physique</p>
 
 <hr
 />
 <h2>🎯 Public concerne</h2>
 
 <p>Stage ouvert aux tireurs et
 tireuses <strong>M11 a Seniors</strong>.</p>
 
 <p>Ouvert egalement aux
 <strong>tireurs internationaux preparant le tournoi
 Sandhaas</strong>.</p>
 
 <hr />
 <h2>📍
 Lieu</h2>
 
 <p><strong>Complexe de la Musau</strong><br />
 14 Rue du
 Colonel Paulus<br />
 67500 Haguenau – France</p>
 
 <hr />
 <h2>💶
 Tarif</h2>
 
 <p><strong>100 € – stage
 complet</strong></p>
 
 <p>👉 30<strong> € /
 jour</strong></p>
 
 <p> </p>
 
 <hr />
 <h2>🧍‍♂️🧍‍♀️
 Places disponibles</h2>
 
 <p><strong>24 participants
 maximum</strong></p>
 
 <p>Groupes organises par <strong>age et
 niveau</strong>.</p>
 
 <hr />
 <h2>📞 Contact &
 inscriptions</h2>
 
 <p>📱 <strong>Maitre Piotr Kuzas</strong><br
 />
 +33 6 01 97 97 75</p>
 
 <p>✉️
 <strong><a>piotr.escrimehaguenau@gmail.com</a></strong></p>
 
 <p>🌐
 Inscriptions :<br />
 <a href="https://www.escrime-haguenau.com/"
 target="_blank" rel="noreferrer
 noopener">https://www.escrime-haguenau.com/</a></p>
URL;VALUE=URI:https://www.escrime-haguenau.com/evenements/2026/04/20/stage-de-paques-preparation-au-tournoi-sandhaas-2423634
END:VEVENT
END:VCALENDAR
